BEGIN:VCALENDAR
VERSION:2.0
PRODID:-//REDPROCEX - ECPv5.1.6//NONSGML v1.0//EN
CALSCALE:GREGORIAN
METHOD:PUBLISH
X-WR-CALNAME:REDPROCEX
X-ORIGINAL-URL:https://redprocex.org
X-WR-CALDESC:Eventos para REDPROCEX
BEGIN:VTIMEZONE
TZID:America/Mexico_City
BEGIN:DAYLIGHT
TZOFFSETFROM:-0600
TZOFFSETTO:-0500
TZNAME:CDT
DTSTART:20220403T080000
END:DAYLIGHT
BEGIN:STANDARD
TZOFFSETFROM:-0500
TZOFFSETTO:-0600
TZNAME:CST
DTSTART:20221030T070000
END:STANDARD
END:VTIMEZONE
BEGIN:VEVENT
DTSTART;VALUE=DATE:20220906
DTEND;VALUE=DATE:20220909
DTSTAMP:20260421T113941
CREATED:20220802T170803Z
LAST-MODIFIED:20220802T170803Z
UID:1973-1662422400-1662681599@redprocex.org
SUMMARY:HUB Cámara Santo Domingo
DESCRIPTION:Dirigido al sector empresarial exportador e importador \n¡República Dominicana es la puerta a este gran mercado! \nPosiciona tu marca en Hub Cámara Santo Domingo\, del 6 al 8 de septiembre \nAmbassador\, a Royal Hideway Hotel. \n 
URL:https://redprocex.org/evento/hub-camara-santo-domingo/
END:VEVENT
BEGIN:VEVENT
DTSTART;TZID=America/Mexico_City:20220928T110000
DTEND;TZID=America/Mexico_City:20220928T123000
DTSTAMP:20260421T113941
CREATED:20220913T171651Z
LAST-MODIFIED:20220919T164519Z
UID:1981-1664362800-1664368200@redprocex.org
SUMMARY:Plataforma para la exportación de las agroexportaciones mexicanas en Japón y Asia
DESCRIPTION:“Plataforma para la exportación de las agroexportaciones mexicanas en Japón y Asia”  \npuerta de entrada para #FOODEX 2023\, con expertos de  \n@CNAgropecuario y @AJR_Noticias\n Miércoles 28 de septiembre. \n 11:00 a 12:30 hrs (CDMX)  \nRegístrate: https://b24-s03pz1.bitrix24.site/crm_form_e2f6m/
URL:https://redprocex.org/evento/plataforma-para-la-exportacion-de-las-agroexportaciones-mexicanas-en-japon-y-asia/
END:VEVENT
END:VCALENDAR