BEGIN:VCALENDAR
VERSION:2.0
PRODID:-//REDPROCEX - ECPv5.1.6//NONSGML v1.0//EN
CALSCALE:GREGORIAN
METHOD:PUBLISH
X-WR-CALNAME:REDPROCEX
X-ORIGINAL-URL:https://redprocex.org
X-WR-CALDESC:Eventos para REDPROCEX
BEGIN:VTIMEZONE
TZID:America/Mexico_City
BEGIN:DAYLIGHT
TZOFFSETFROM:-0600
TZOFFSETTO:-0500
TZNAME:CDT
DTSTART:20220403T080000
END:DAYLIGHT
BEGIN:STANDARD
TZOFFSETFROM:-0500
TZOFFSETTO:-0600
TZNAME:CST
DTSTART:20221030T070000
END:STANDARD
END:VTIMEZONE
BEGIN:VEVENT
DTSTART;TZID=America/Mexico_City:20221009T080000
DTEND;TZID=America/Mexico_City:20221012T170000
DTSTAMP:20260419T072519
CREATED:20220919T165909Z
LAST-MODIFIED:20220919T165909Z
UID:1987-1665302400-1665594000@redprocex.org
SUMMARY:XXXVIII Congreso ALACAT
DESCRIPTION:¡Participa en el XXXVIII Congreso de @MUNDO_ALACAT!  \nDisfruta de la Riviera Maya y las últimas actualizaciones del mundo del comercio exterior y logística  \n 9-12 de octubre\, 2022.  \nInscríbete en http://alacat2022.com \n 
URL:https://redprocex.org/evento/xxxviii-congreso-alacat/
END:VEVENT
END:VCALENDAR