BEGIN:VCALENDAR
VERSION:2.0
PRODID:-//REDPROCEX - ECPv5.1.6//NONSGML v1.0//EN
CALSCALE:GREGORIAN
METHOD:PUBLISH
X-WR-CALNAME:REDPROCEX
X-ORIGINAL-URL:https://redprocex.org
X-WR-CALDESC:Eventos para REDPROCEX
BEGIN:VTIMEZONE
TZID:America/Mexico_City
BEGIN:DAYLIGHT
TZOFFSETFROM:-0600
TZOFFSETTO:-0500
TZNAME:CDT
DTSTART:20220403T080000
END:DAYLIGHT
BEGIN:STANDARD
TZOFFSETFROM:-0500
TZOFFSETTO:-0600
TZNAME:CST
DTSTART:20221030T070000
END:STANDARD
END:VTIMEZONE
BEGIN:VEVENT
DTSTART;VALUE=DATE:20220924
DTEND;VALUE=DATE:20221003
DTSTAMP:20260419T085412
CREATED:20220725T184729Z
LAST-MODIFIED:20220725T184729Z
UID:1962-1663977600-1664755199@redprocex.org
SUMMARY:Brasil Oil & Gas
DESCRIPTION:Misión comercial para el sector energético y petrolero mexicano \na Rio de Janeiro\, Brasil. \n \n 
URL:https://redprocex.org/evento/brasil-oil-gas/
ORGANIZER;CN="CAMEBRA":MAILTO:marcelo@camebra.mx
END:VEVENT
END:VCALENDAR